BEGIN:VCALENDAR
VERSION:2.0
PRODID:-//artmontan Kulturtage - ECPv6.15.20//NONSGML v1.0//EN
CALSCALE:GREGORIAN
METHOD:PUBLISH
X-ORIGINAL-URL:https://www.artmontan.de
X-WR-CALDESC:Veranstaltungen für artmontan Kulturtage
REFRESH-INTERVAL;VALUE=DURATION:PT1H
X-Robots-Tag:noindex
X-PUBLISHED-TTL:PT1H
BEGIN:VTIMEZONE
TZID:Europe/Berlin
BEGIN:DAYLIGHT
TZOFFSETFROM:+0100
TZOFFSETTO:+0200
TZNAME:CEST
DTSTART:20250330T010000
END:DAYLIGHT
BEGIN:STANDARD
TZOFFSETFROM:+0200
TZOFFSETTO:+0100
TZNAME:CET
DTSTART:20251026T010000
END:STANDARD
BEGIN:DAYLIGHT
TZOFFSETFROM:+0100
TZOFFSETTO:+0200
TZNAME:CEST
DTSTART:20260329T010000
END:DAYLIGHT
BEGIN:STANDARD
TZOFFSETFROM:+0200
TZOFFSETTO:+0100
TZNAME:CET
DTSTART:20261025T010000
END:STANDARD
BEGIN:DAYLIGHT
TZOFFSETFROM:+0100
TZOFFSETTO:+0200
TZNAME:CEST
DTSTART:20270328T010000
END:DAYLIGHT
BEGIN:STANDARD
TZOFFSETFROM:+0200
TZOFFSETTO:+0100
TZNAME:CET
DTSTART:20271031T010000
END:STANDARD
END:VTIMEZONE
BEGIN:VEVENT
DTSTART;VALUE=DATE:20260903
DTEND;VALUE=DATE:20260905
DTSTAMP:20260421T172831
CREATED:20251007T050047Z
LAST-MODIFIED:20260115T093227Z
UID:10000046-1788393600-1788566399@www.artmontan.de
SUMMARY:HEISSE TÖNE & WIPPENDE FÜSSE I
DESCRIPTION:JAZZORCHESTER MUCKEFUCK & JOE WULF AND THE GENTLEMEN OF SWING\nKonzerttermine:Donnerstag\, 03.09.2026\, 19 UhrFreitag\, 04.09.2026\, 19 Uhr \nVeranstaltungsort:Eisenbahnmuseum Schwarzenberg – LokschuppenSchneeberger Str. 60\, 08340 Schwarzenberg \nDas Jazzorchester Muckefuck aus Neuss lässt den Jazz der 1920er und 1930er Jahre wieder aufleben. In den nunmehr zwanzig Jahren ihres Bestehens hat sich die Band mit ihrer Art\, Swing\, Dixieland und New-Orleans-Jazz zu interpretieren\, längst vom Geheimtipp zur ambitionierten Jazzcombo entwickelt. Neben Interpretationen großer Namen wie Louis Armstrong\, King Oliver\, Jelly Roll Morton oder Sidney Bechet kommen allem voran auch die Unterhaltung des Publikums und der Spaß natürlich niemals zu kurz. \nJoe Wulf\, Soloposaunist und Arrangeur\, bringt mit seiner Band die Musik seiner Produktion „Going South“ live auf die Bühne. Da\, wo sich im Süden der USA karibische Musik mit kreolischen und afrikanischen Einflüssen trifft\, ist das musikalische Reiseziel dieses furiosen Konzerts. Auf dem Weg in den Süden nimmt Joe Wulf die Zuschauer mit in die Welt von pulsierenden Mardi-Gras-Beats\, von Blues und Swingmusik. Die „Reiseleitung“ übernimmt Joe Wulf gemeinsam mit der charmanten Sängerin Angela van Rijthoven. \nEintritt:35 EURermäßigter Preis 33 EUR (für Kinder bis 14 Jahre und Personen mit gültigem Schwerbehindertenausweis) \nEinlass:ab eine Stunde vor Veranstaltungsbeginn \nHinweise:Parkplätze direkt vor Ort und in der näheren Umgebung vorhanden. Das Eisenbahnmuseum Schwarzenberg ist nicht barrierefrei. \n			\n			\n				\n				\n				\n				\n				Ticket-Anfrage 03.09.2026\, 19 Uhr\n				\n				\n				\n					\n						\n				\n				\n				\n				\n				Kundennr.\n				\n			 \n				\n				\n				\n				\n				Vollständiger Name*\n				\n			 \n				\n				\n				\n				\n				Anschrift*\n				\n			 \n				\n				\n				\n				\n				E-Mail-Adresse*\n				\n			 \n				\n				\n				\n				\n				gewünschte Kartenanzahl (max. 10)*\n				\n			 \n						\n						\n							\n			\n				\n					10 + 9 = \n				 \n			\n							Los!\n						\n						\n					\n				\n			\n			\n			\n				\n				\n				\n				\n				Ticket-Anfrage 04.09.2026\, 19 Uhr\n				\n				\n				\n					\n						\n				\n				\n				\n				\n				Kundennr.\n				\n			 \n				\n				\n				\n				\n				Vollständiger Name*\n				\n			 \n				\n				\n				\n				\n				Anschrift*\n				\n			 \n				\n				\n				\n				\n				E-Mail-Adresse*\n				\n			 \n				\n				\n				\n				\n				gewünschte Kartenanzahl (max. 10)*\n				\n			 \n						\n						\n							\n			\n				\n					10 + 7 = \n				 \n			\n							Los!
URL:https://www.artmontan.de/ticket/heisse-toene-wippende-fuesse-i-2/
LOCATION:Eisenbahnmuseum Schwarzenberg – Lokschuppen\, Schneeberger Str. 60\, Schwarzenberg\, 08340
ATTACH;FMTTYPE=image/jpeg:https://www.artmontan.de/wp-content/uploads/2025/10/slider_muckefuck_joewulf.jpg
END:VEVENT
BEGIN:VEVENT
DTSTART;VALUE=DATE:20260905
DTEND;VALUE=DATE:20260906
DTSTAMP:20260421T172832
CREATED:20251007T050046Z
LAST-MODIFIED:20260115T092853Z
UID:10000047-1788566400-1788652799@www.artmontan.de
SUMMARY:HEISSE TÖNE & WIPPENDE FÜSSE II
DESCRIPTION:THE TOUGHEST TENORS & THE HOT STUFF JAZZBAND\nKonzerttermine:Samstag\, 05.09.2026\, 14 UhrSamstag\, 05.09.2026\, 19 Uhr \nVeranstaltungsort:Eisenbahnmuseum Schwarzenberg – LokschuppenSchneeberger Str. 60\, 08340 Schwarzenberg \nThe Toughest Tenors kommen gleich zur Sache: Frisch und virtuos\, rau und direkt agieren sie undercover in den letzten verbliebenen Jazzkellern dieser Welt und leben ihren ganz eigenen amerikanischen Traum. Sie sind cool und unbestechlich und wissen genau\, was sie tun. Sie stöpseln sich zeitlich da ein\, wo der Jazz noch einen erdigen Stil hatte und hart swingte\, Blues und Soul bot und ein Publikum erreichte\, das die Radios lauter stellte. \nMit Swing und Jazz der Extraklasse legt die Hot Stuff Jazzband einen groovigen\, erdigen „Mini Big Band Sound“ an den Tag\, der seinesgleichen sucht. Eine besondere Spezialität sind die dynamischen Big Band-artigen Riffs und Tuttiphrasen sowie die „Call & Response“ Improvisationen zwischen Trompete und Posaune. Zudem sorgt der ein oder andere gesungene Titel für Abwechslung. Die Spannweite des Repertoires umfasst ausgewählte Songs vom traditionellen Jazz der 1920er und 30er Jahre über die Swing Ära bis hin zu lateinamerikanischen und karibischen Rhythmen. \nEintritt:35 EURermäßigter Preis 33 EUR (für Kinder bis 14 Jahre und Personen mit gültigem Schwerbehindertenausweis) \nEinlass:ab eine Stunde vor Veranstaltungsbeginn \nHinweise:Parkplätze direkt vor Ort und in der näheren Umgebung vorhanden. Das Eisenbahnmuseum Schwarzenberg ist nicht barrierefrei. \n			\n			\n				\n				\n				\n				\n				Ticket-Anfrage 05.09.2026\, 14 Uhr\n				\n				\n				\n					\n						\n				\n				\n				\n				\n				Kundennr.\n				\n			 \n				\n				\n				\n				\n				Vollständiger Name*\n				\n			 \n				\n				\n				\n				\n				Anschrift*\n				\n			 \n				\n				\n				\n				\n				E-Mail-Adresse*\n				\n			 \n				\n				\n				\n				\n				gewünschte Kartenanzahl (max. 10)*\n				\n			 \n						\n						\n							\n			\n				\n					11 + 2 = \n				 \n			\n							Los!\n						\n						\n					\n				\n			\n			\n			\n				\n				\n				\n				\n				Ticket-Anfrage 05.09.2026\, 19 Uhr\n				\n				\n				\n					\n						\n				\n				\n				\n				\n				Kundennr.\n				\n			 \n				\n				\n				\n				\n				Vollständiger Name*\n				\n			 \n				\n				\n				\n				\n				Anschrift*\n				\n			 \n				\n				\n				\n				\n				E-Mail-Adresse*\n				\n			 \n				\n				\n				\n				\n				gewünschte Kartenanzahl (max. 10)*\n				\n			 \n						\n						\n							\n			\n				\n					5 + 11 = \n				 \n			\n							Los!
URL:https://www.artmontan.de/ticket/heisse-toene-wippende-fuesse-ii-2/
LOCATION:Eisenbahnmuseum Schwarzenberg – Lokschuppen\, Schneeberger Str. 60\, Schwarzenberg\, 08340
ATTACH;FMTTYPE=image/jpeg:https://www.artmontan.de/wp-content/uploads/2025/10/slider_tenors_hotstuff.jpg
END:VEVENT
END:VCALENDAR